Workbook

Sheet 4.1_1
B1: Tabuľka č. 5 | M1: Územie | N1: priemer
B2: BODOVACIE KRITÉRIÁ | C2: Špeciálna rastlinná výroba | M2: BA - Bratislava I | N2: 4.99
M3: BA - Bratislava II | N3: 6.67
B4: Žiadateľ | C4: WITOS s.r.o. | M4: BA - Bratislava III | N4: 5.87
B5: IČO | C5: 36039853 | M5: BA - Bratislava IV | N5: 5.49
B6: Výška OV | C6: 248823.7 | M6: BA - Bratislava V | N6: 5.3
B7: Výmera obhospodarovanej pôdy v ha | C7: 28.06 | M7: BA - Malacky | N7: 7.43
B8: Miesto realizácie | M8: BA - Pezinok | N8: 7.41
B9: Požadovaný NFP | C9: 111970.66 | M9: BA - Senec | N9: 6.22
M10: TT - Dunajská Streda | N10: 10.34
A11: P.č. | B11: Kritérium | F11: Body | G11: Poznámka | I11: počet bodov | M11: TT - Galanta | N11: 5.43
A12: 1. | B12: Projekt sa realizuje v okrese s mierou evidovanej nezamestnanosti k 31. 12. predchádzajúceho roka: | G12: V prípade, ak sa projekt realizuje vo viacerých okresoch, body sa pridelia na základe nezamestnanosti vypočítanej aritmetickým priemerom z údajov nezamestnanosti všetkých okresov, kde sa projekt realizuje. Maximálny počet bodov je 10 | H12: Evidovaná miera nezamestnanosti v % | I12: =IF(H13<=15,8,IF(H13>15,10,"")) -> 8 | M12: TT - Hlohovec | N12: 7.87
B13: – do 15 % vrátane | F13: 8 | H13: =TRANSPOSE(Nezamestanosť!E44) -> 10.55 | M13: TT - Piešťany | N13: 7.51
B14: – nad 15 % | F14: 10 | M14: TT - Senica | N14: 11.25
A15: 2. | B15: Realizáciou projektu sa žiadateľ zaviaže zvýšiť počet pracovných miest súvisiacich s projektom minimálne o 1 zamestnanca minimálne na 2 roky a to najneskôr do 6 mesiacov od doby realizácie investície | F15: 4 | G15: Vykazujú sa miesta súvisiace so samotnou realizáciou projektu nie celkové miesta v podniku. Za počiatočný stav sa berie stav pred investíciou. Žiadateľ musí preukázateľne označovať uvedené miesta označením miesto PRV. Berie sa pracovné miesto na celý úväzok. V prípade čiastočných úväzkov resp. sezónnych zamestnancov sa metodika posudzovania uvedie vo výzve. Miesto sa musí vytvoriť najneskôr do 6 mesiacov od realizácie investície ( odo dňa predloženia ŽoP) | I15: =TRANSPOSE(Q15) -> 4 | M15: TT - Skalica | N15: 8.27 | P15: FALSE | Q15: =IF(OR(P15="",P15=0),"",IF(P15=1,4,IF(P15=2,0,""))) -> 4
A16: 3. | B16: Žiadateľ bol založený alebo vznikol po 1.1.2014, nemá ukončený žiadny celý rok činnosti a preto nevie preukázať ekonomickú životaschopnosť | F16: 1 | G16: Posúdenie životaschopnosti platí aspoň za jeden rok z rokov 2013 alebo 2014. Spôsob uplatňovania bude stanovený vo výzve. Maximálny počet bodov je 6 | I16: =TRANSPOSE(Q17) -> 3 | M16: TT - Trnava | N16: 6.44
B17: Žiadateľ spĺňa aspoň jedno kritérium ekonomickej životaschopnosti | F17: 3 | M17: TN - Bánovce nad Bebravou | N17: 10.24 | P17: FALSE | Q17: =IF(P17=1,1,IF(P17=2,3,IF(P17=3,6,IF(P17=4,0,"")))) -> 3
B18: Žiadateľ spĺňa obidve kritériá ekonomickej životaschopnosti | F18: 6 | M18: TN - Ilava | N18: 7.92
B19: Žiadateľ nespĺňa ani jedno kritérum ekonomickej životaschopnosti | M19: TN - Myjava | N19: 7.74
A20: 4. | B20: Projekt prispieva k hlavným cieľom PRV v rámci opatrenia 4.1 na základe analýzy potrieb - zvýšeniu efektívnosti výroby, k zvýšeniu produkcie alebo k zvýšeniu kvality výrobkov resp. súvisí s pestovaním resp. výrobou nových produktov | F20: 5 | G20: Žiadateľ uvedené popíše v žiadosti o NFP a v prípade splnenia si uplatní 5 bodov. | I20: =TRANSPOSE(Q20) -> 5 | M20: TN - Nové Mesto nad Váhom | N20: 7.69 | P20: FALSE | Q20: =IF(OR(P20="",P20=0),"",IF(P20=1,5,IF(P20=2,0,""))) -> 5
A21: 5. | B21: Deklarované oprávnené výdavky žiadateľom v súvislosti s projektom sú: | G21: Výmera obhospodarovanej pôdy sa bude brať podľa deklarovanej pôdy v žiadostiach pre priame platby za rok 2015. V prípade nepodania žiadosti na priame platby sa žiadateľ posudzuje ako žiadateľ obhospodarujúci pôdu na menej ako 50 ha. Do nákladov na zriadenie sadu resp. výstavby skleníkov podľa písm. D patria aj všetky technológie s tým súvisiace ( napr. zavlažovanie, vykurovanie, delá proti ľadovcu a pod.) siete, oplotenie, vnútorné komunikácie. Zároveň je tu možné ( do písmena D) započítať náklady na sklady a pozberovú úpravu ovocia a zeleniny, pokiaľ je predmetom projektu aj zriadenie sadu a výstavba skleníkov alebo fóliovníkov. Pokiaľ sú predmetom aj stroje, automobily alebo náradie body sa priznajú len podľa písmen A) až C). Za zriadenie nového sadu podľa D) sa počíta aj úplné vyklčovanie starého sadu a zriadenie nového sadu na jeho mieste. Maximálny počet bodov je 29. Body sú v každej skupine za písmená a) až d). | I21: =TRANSPOSE(R32) -> 29 | M21: TN - Partizánske | N21: 11.39
B22: A) Pri žiadateľoch obhospodarujúcich poľnohospodársku pôdu na menej ako 50 ha vrátane: | M22: TN - Považská Bystrica | N22: 10.53
B23: a) max. vo výške 100 tis. EUR vrátane | M23: TN - Prievidza | N23: 12.47
B24: b) max. vo výške 150 tis. EUR vrátane | M24: TN - Púchov | N24: 7.15
B25: c) max. vo výške 200 tis. EUR vrátane | M25: TN - Trenčín | N25: 7.82
B26: d) nad 200 tis. EUR | F26: 29 | M26: NR - Komárno | N26: 15.48
B27: B) Pri žiadateľoch obhospodarujúcich poľnohospodársku pôdu od 50 ha do 100 ha vrátane: | D27: x | M27: NR - Levice | N27: 12.91
B28: a) max .vo výške 120 tis. EUR vrátane | F28: 27 | M28: NR - xxxxx | N28: 8.64
B29: b) max. vo výške 180 tis. EUR vrátane | M29: NR - Nové Zámky | N29: 10.85
B30: c) max. vo výške 220 tis. EUR vrátane | F30: 25 | M30: NR - Šaľa | N30: 8.53
B31: d) nad 220 tis. EUR | M31: NR - Topoľčany | N31: 11.08
B32: C) Pri žiadateľoch obhospodarujúcich poľnohospodársku pôdu na viac ako 100 ha : | D32: x | F32: 21 | M32: NR - Zlaté Moravce | N32: 10.41 | P32: FALSE | Q32: =IF(P32=1,IF(OR(C6="",C7=""),"",IF(AND(C7<=50,C6<=100000),29,IF(AND(C7<=50,C6>100000,C6<=150000),27,IF(AND(C7<=50,C6>150000,C6<=200000),25,IF(AND(C7<=50,C6>200000),21,IF(AND(C7>50,C7<=100,C6<=120000),29,IF(AND(C7>50,C7<=100,C6>120000,C6<=180000),27,IF(AND(C7>50,C7<=100,C6>180000,C6<=220000),25,IF(AND(C7>50,C7<=100,C6>220000),21,IF(AND(C7>100,C6<=150000),29,IF(AND(C7>100,C6>150000,C6<=200000),27,IF(AND(C7>100,C6>200000,C6<=250000),25,IF(AND(C7>100,C6>250000),21,))))))))))))),"") | R32: =IF(AND(Q32="",Q33=""),"",SUM(Q32:Q33)) -> 29
B33: a) max. vo výške 150 tis. EUR vrátane | M33: ZA - Bytča | N33: 14.3 | Q33: =IF(P32=2,IF(AND(C6=""),"",IF(AND(C6<=250000),29,IF(AND(C6>250000,C6<=400000),27,IF(AND(C6>400000,C6<=500000),25,IF(AND(C6>500000),21,))))),"") -> 29
B34: b) max. vo výške 200 tis. EUR vrátane | M34: ZA - Čadca | N34: 12.37
B35: c) max. vo výške 250 tis. EUR vrátane | M35: ZA - Dolný Kubín | N35: 12.65
B36: d) nad 250 tis. EUR | M36: ZA - Kysucké Nové Mesto | N36: 12.28
B37: D) Pri žiadateľoch, ktorých predmetom projektu je len zriadenie nového sadu alebo výstavba skleníkov alebo fóliovníkov vrátane technológií a bez strojov, automobilov a náradia: | D37: x | M37: ZA - Liptovský Mikuláš | N37: 12.04
B38: a) max. vo výške 250 tis. EUR vrátane | M38: ZA - xxxxx | N38: 8.34
B39: b) max. vo výške 400 tis. EUR vrátane | M39: ZA - Námestovo | N39: 12.53
B40: c) max. vo výške 500 tis. EUR vrátane | M40: ZA - Ružomberok | N40: 11.87
...

Sheet Nezamestanosť
A1: Tabuľka č. 4
A2: NEZAMESTANOSŤ
A4: Žiadateľ | B4: WITOS s.r.o.
A5: IČO | B5: 36039853
A8: Projekt sa realizuje v okrese/okresoch:
C9: skryt | D9: skryt | F9: skryt | G9: skryt
A10: P.č. | B10: Kraj - okres | C10: Okres | D10: Nezamestanosť | E10: Nezamestanosť | H10: kontrola | I10: kontrola1
A11: 1 | B11: BB - Zvolen | D11: =VLOOKUP(B11,'4.1_1'!$M$1:$N$80,2,0) -> 10.55 | E11: =IFERROR(D11,0) -> 10.55 | F11: =IF(E11>0,1,"") -> 1 | G11: =COUNTIF($B$11:$B$40,B11) -> 1 | H11: =IF(G11>1,"okres je zadaný viackrát","") | I11: =IF(B11="","nezadané miesto realizácie"," ")
A12: 2 | D12: =VLOOKUP(B12,'4.1_1'!$M$1:$N$80,2,0) -> #N/A | E12: =IFERROR(D12,0) -> 0 | F12: =IF(E12>0,1,"") | G12: =COUNTIF($B$11:$B$40,B12) -> 0 | H12: =IF(G12>1,"okres je zadaný viackrát","")
A13: 3 | D13: =VLOOKUP(B13,'4.1_1'!$M$1:$N$80,2,0) -> #N/A | E13: =IFERROR(D13,0) -> 0 | F13: =IF(E13>0,1,"") | G13: =COUNTIF($B$11:$B$40,B13) -> 0 | H13: =IF(G13>1,"okres je zadaný viackrát","")
A14: 4 | D14: =VLOOKUP(B14,'4.1_1'!$M$1:$N$80,2,0) -> #N/A | E14: =IFERROR(D14,0) -> 0 | F14: =IF(E14>0,1,"") | G14: =COUNTIF($B$11:$B$40,B14) -> 0 | H14: =IF(G14>1,"okres je zadaný viackrát","")
A15: 5 | D15: =VLOOKUP(B15,'4.1_1'!$M$1:$N$80,2,0) -> #N/A | E15: =IFERROR(D15,0) -> 0 | F15: =IF(E15>0,1,"") | G15: =COUNTIF($B$11:$B$40,B15) -> 0 | H15: =IF(G15>1,"okres je zadaný viackrát","")
A16: 6 | D16: =VLOOKUP(B16,'4.1_1'!$M$1:$N$80,2,0) -> #N/A | E16: =IFERROR(D16,0) -> 0 | F16: =IF(E16>0,1,"") | G16: =COUNTIF($B$11:$B$40,B16) -> 0 | H16: =IF(G16>1,"okres je zadaný viackrát","")
A17: 7 | D17: =VLOOKUP(B17,'4.1_1'!$M$1:$N$80,2,0) -> #N/A | E17: =IFERROR(D17,0) -> 0 | F17: =IF(E17>0,1,"") | G17: =COUNTIF($B$11:$B$40,B17) -> 0 | H17: =IF(G17>1,"okres je zadaný viackrát","")
A18: 8 | D18: =VLOOKUP(B18,'4.1_1'!$M$1:$N$80,2,0) -> #N/A | E18: =IFERROR(D18,0) -> 0 | F18: =IF(E18>0,1,"") | G18: =COUNTIF($B$11:$B$40,B18) -> 0 | H18: =IF(G18>1,"okres je zadaný viackrát","")
A19: 9 | D19: =VLOOKUP(B19,'4.1_1'!$M$1:$N$80,2,0) -> #N/A | E19: =IFERROR(D19,0) -> 0 | F19: =IF(E19>0,1,"") | G19: =COUNTIF($B$11:$B$40,B19) -> 0 | H19: =IF(G19>1,"okres je zadaný viackrát","")
A20: 10 | D20: =VLOOKUP(B20,'4.1_1'!$M$1:$N$80,2,0) -> #N/A | E20: =IFERROR(D20,0) -> 0 | F20: =IF(E20>0,1,"") | G20: =COUNTIF($B$11:$B$40,B20) -> 0 | H20: =IF(G20>1,"okres je zadaný viackrát","")
A21: 11 | D21: =VLOOKUP(B21,'4.1_1'!$M$1:$N$80,2,0) -> #N/A | E21: =IFERROR(D21,0) -> 0 | F21: =IF(E21>0,1,"") | G21: =COUNTIF($B$11:$B$40,B21) -> 0 | H21: =IF(G21>1,"okres je zadaný viackrát","")
A22: 12 | D22: =VLOOKUP(B22,'4.1_1'!$M$1:$N$80,2,0) -> #N/A | E22: =IFERROR(D22,0) -> 0 | F22: =IF(E22>0,1,"") | G22: =COUNTIF($B$11:$B$40,B22) -> 0 | H22: =IF(G22>1,"okres je zadaný viackrát","")
A23: 13 | D23: =VLOOKUP(B23,'4.1_1'!$M$1:$N$80,2,0) -> #N/A | E23: =IFERROR(D23,0) -> 0 | F23: =IF(E23>0,1,"") | G23: =COUNTIF($B$11:$B$40,B23) -> 0 | H23: =IF(G23>1,"okres je zadaný viackrát","")
... A40: 30 | D40: =VLOOKUP(B40,'4.1_1'!$M$1:$N$80,2,0) -> #N/A | E40: =IFERROR(D40,0) -> 0 | F40: =IF(E40>0,1,"") | G40: =COUNTIF($B$11:$B$40,B40) -> 0 | H40: =IF(G40>1,"okres je zadaný viackrát","")
E43: =SUM(E11:E40) -> 10.55 | F43: =COUNT(F11:F40) -> 1
B44: PRIEMER NEZAMESTNANOSŤ | E44: =IFERROR(F44,0) -> 10.55 | F44: =E43/F43 -> 10.55
