Workbook

Sheet Hárok1
A1: Číslo projektu | B1: Názov projektu | C1: Zodpovedný riešiteľ | D1: Žiadateľská organizácia | E1: Charakter výskumu | F1: Odbor výskumu | G1: Vedná oblasť | H1: Priemerné hodnotenie posudzovateľmi | I1: Výsledné hodnotenie radou | J1: Výsledný stav | K1: Výzva
A2: SK-UA-2013-0001 | B2: Syntéza nových analógov vitamínu E a štúdium protinádorového mechanizmu prostredníctvom topoizomerázovej inhibície. | C2: doc. RNDr. Mária Kožurková CSc. | D2: Univerzita Pavla Jozefa Šafárika v Košiciach, Prírodovedecká fakulta | F2: Biochémia (aj pre lekárske, farmaceutické, veterinárne, poľnohospodárske, lesnícke a vodohospodárske vedy) | G2: Medzinárodná vedecko-technická spolupráca | H2: Nepodporené | I2: Nepodporené | J2: Nefinancovaný | K2: =LEFT(Hárok1!$A2,LEN(Hárok1!$A2)-5) -> SK-UA-2013
A3: SK-UA-2013-0002 | B3: Elektrochemická syntéza karbidových nanokompozitov na báze karbidov molybdénu a volfrámu a kovov triády železa | C3: Ing. Marta Ambrová PhD. | D3: Slovenská technická univerzita v Bratislave, Fakulta chemickej a potravinárskej technológie | F3: Anorganická technológia a materiály | G3: Medzinárodná vedecko-technická spolupráca | H3: Nepodporené | I3: Nepodporené | J3: Nefinancovaný | K3: =LEFT(Hárok1!$A3,LEN(Hárok1!$A3)-5) -> SK-UA-2013
A4: SK-UA-2013-0003 | B4: Nanoštruktúrne mechanochemicky modifikované zlúčeniny arzénu s protirakovinovým účinkom: od ab-initio kvantovo-mechanickým modelom k experimentálnym overeniam | C4: prof. RNDr. Peter Baláž DrSc. | D4: Ústav geotechniky SAV, | F4: Materiálová chémia | G4: Medzinárodná vedecko-technická spolupráca | H4: 90.5 | I4: 90.5 | J4: Financovaný | K4: =LEFT(Hárok1!$A4,LEN(Hárok1!$A4)-5) -> SK-UA-2013
A5: SK-UA-2013-0004 | B5: Prieskum interakcií medzi endokrinnými disruptormi, mikroflórou a rybami vo vodných prostrediach za účelom stanovenia vhodných bioindikátorov na detekciu kontaminácie | C5: Dr. Domenico Pangallo PhD. | D5: Ústav molekulárnej biológie SAV, | F5: Prírodné vedy | G5: Medzinárodná vedecko-technická spolupráca | H5: Nepodporené | I5: Nepodporené | J5: Nefinancovaný | K5: =LEFT(Hárok1!$A5,LEN(Hárok1!$A5)-5) -> SK-UA-2013
A6: SK-UA-2013-0005 | B6: Rastlinná obrana voči arzénu v závislosti od rôznych výživových podmienok | C6: Mgr. Ildikó Matušíková PhD. | D6: Centrum biológie rastlín a biodiverzity SAV - Ústav genetiky a biotechnológií rastlín SAV, | F6: Fyziológia rastlín | G6: Medzinárodná vedecko-technická spolupráca | H6: Nepodporené | I6: Nepodporené | J6: Nefinancovaný | K6: =LEFT(Hárok1!$A6,LEN(Hárok1!$A6)-5) -> SK-UA-2013
A7: SK-UA-2013-0006 | B7: Využitie lineárneho urýchľovača u pacientov s vnútroočným nádorom | C7: doc. MUDr. Alena Furdová PhD. MPH | D7: Univerzita Komenského v Bratislave, Lekárska fakulta | F7: Oftalmológia | G7: Medzinárodná vedecko-technická spolupráca | H7: Nepodporené | I7: Nepodporené | J7: Nevyhovel FT kontrole | K7: =LEFT(Hárok1!$A7,LEN(Hárok1!$A7)-5) -> SK-UA-2013
A8: SK-UA-2013-0007 | B8: Štúdium chitinázy z rosičky (Drosera rotundifolia) pre zelenú ochranu životného prostredia | C8: Ing. Jana Moravčíková PhD. | D8: Centrum biológie rastlín a biodiverzity SAV - Ústav genetiky a biotechnológií rastlín SAV, | F8: Ostatné príbuzné odbory biologických vied | G8: Medzinárodná vedecko-technická spolupráca | H8: Nepodporené | I8: Nepodporené | J8: Nefinancovaný | K8: =LEFT(Hárok1!$A8,LEN(Hárok1!$A8)-5) -> SK-UA-2013
A9: SK-UA-2013-0009 | B9: Kvantové spinové systémy ako perspektívne materiály pre chladiace technológie | C9: doc. RNDr. Jozef Strečka PhD. | D9: Univerzita Pavla Jozefa Šafárika v Košiciach, Prírodovedecká fakulta | F9: Fyzika kondenzovaných látok a akustika | G9: Medzinárodná vedecko-technická spolupráca | H9: Nepodporené | I9: Nepodporené | J9: Nefinancovaný | K9: =LEFT(Hárok1!$A9,LEN(Hárok1!$A9)-5) -> SK-UA-2013
A10: SK-UA-2013-0010 | B10: Vývoj nových, ekologicky prijateľných, nízkoteplotných elektrolytov pre realizáciu elektrochemických procesov vylučovania, rafinácie a výroby vzácnych kovov. | C10: Ing. Viliam Pavlík PhD. | D10: Ústav anorganickej chémie SAV, | F10: Anorganická technológia a materiály | G10: Medzinárodná vedecko-technická spolupráca | H10: Nepodporené | I10: Nepodporené | J10: Nefinancovaný | K10: =LEFT(Hárok1!$A10,LEN(Hárok1!$A10)-5) -> SK-UA-2013
A11: SK-UA-2013-0011 | B11: Vývoj, vlastnosti a aplikácia nových potenciometrických senzorov pre stanovenie biologicky aktívných látok | C11: prof. Dr. Yaroslav Bazel DrSc. | D11: Univerzita Pavla Jozefa Šafárika v Košiciach, Prírodovedecká fakulta | F11: Analytická chémia | G11: Medzinárodná vedecko-technická spolupráca | H11: Nepodporené | I11: Nepodporené | J11: Nevyhovel FT kontrole | K11: =LEFT(Hárok1!$A11,LEN(Hárok1!$A11)-5) -> SK-UA-2013
A12: SK-UA-2013-0012 | B12: Phi Josephsonové spoje - simulácia, návrh a príprava | C12: prof. RNDr. Andrej Plecenik DrSc. | D12: Univerzita Komenského v Bratislave, Fakulta matematiky, fyziky a informatiky | F12: Fyzika kondenzovaných látok a akustika | G12: Medzinárodná vedecko-technická spolupráca | H12: Nepodporené | I12: Nepodporené | J12: Nevyhovel FT kontrole | K12: =LEFT(Hárok1!$A12,LEN(Hárok1!$A12)-5) -> SK-UA-2013
A13: SK-UA-2013-0013 | B13: Výskum porušenia a zákonov opotrebenia materiálov hutníckych zariadení | C13: doc. Ing. Janette Brezinová PhD. | D13: Technická univerzita v Košiciach, Strojnícka fakulta | F13: Strojárstvo | G13: Medzinárodná vedecko-technická spolupráca | H13: 97.5 | I13: 97.5 | J13: Financovaný | K13: =LEFT(Hárok1!$A13,LEN(Hárok1!$A13)-5) -> SK-UA-2013
A14: SK-UA-2013-0014 | B14: Chemická modifikácia povrchu drevných dýh pre zlepšenie kvality lepenia vrstvovitých materiálov | C14: doc. Ing. Ján Sedliačik PhD. | D14: Technická univerzita vo Zvolene, Drevárska fakulta | F14: Technológia a spracovanie dreva | G14: Medzinárodná vedecko-technická spolupráca | H14: Nepodporené | I14: Nepodporené | J14: Nefinancovaný | K14: =LEFT(Hárok1!$A14,LEN(Hárok1!$A14)-5) -> SK-UA-2013
A15: SK-UA-2013-0015 | B15: Rozpojené MANET siete | C15: doc. Ing. Ľubomír Doboš CSc. | D15: Technická univerzita v Košiciach, Fakulta elektrotechniky a informatiky | F15: Informačné a komunikačné technológie | G15: Medzinárodná vedecko-technická spolupráca | H15: Nepodporené | I15: Nepodporené | J15: Nefinancovaný | K15: =LEFT(Hárok1!$A15,LEN(Hárok1!$A15)-5) -> SK-UA-2013
A16: SK-UA-2013-0016 | B16: Možnosti kombinovania fytoremediácie s produkciou druhej generácie biopalivových rastlín pre čistenie lokalít kontaminovaných ťažkými kovmi na Slovensku a na Ukrajine | C16: prof. Valentyna Pidlisniuk DrSc. CSc. | D16: Univerzita Mateja Bela v Banskej Bystrici, Fakulta prírodných vied | F16: Ostatné príbuzné odbory Vied o zemi (geologických, geografických, ekologických a enviromentálnych vied) | G16: Medzinárodná vedecko-technická spolupráca | H16: Nepodporené | I16: Nepodporené | J16: Nefinancovaný | K16: =LEFT(Hárok1!$A16,LEN(Hárok1!$A16)-5) -> SK-UA-2013
A17: SK-UA-2013-0017 | B17: Zvyšovanie kvality obrábania vláknami vystuženého plastu (FRP) | C17: doc. Ing. Michal Hatala PhD. | D17: Technická univerzita v Košiciach, Fakulta výrobných technológií, Prešov | F17: Obrábanie, tvárnenie a povrchová úprava | G17: Medzinárodná vedecko-technická spolupráca | H17: Nepodporené | I17: Nepodporené | J17: Nefinancovaný | K17: =LEFT(Hárok1!$A17,LEN(Hárok1!$A17)-5) -> SK-UA-2013
A18: SK-UA-2013-0018 | B18: Príprava projektu pre aplikáciu IT v medzinárodnej železničnej doprave | C18: prof. Ing. Vladimír Modrák CSc. | D18: Technická univerzita v Košiciach, Fakulta výrobných technológií, Prešov | F18: Informačné systémy | G18: Medzinárodná vedecko-technická spolupráca | H18: Nepodporené | I18: Nepodporené | J18: Nefinancovaný | K18: =LEFT(Hárok1!$A18,LEN(Hárok1!$A18)-5) -> SK-UA-2013
A19: SK-UA-2013-0019 | B19: Príprava a štúdium tenkovrstvových elektrolytov Cu6РS5X (X = I, Br) pre výskum a vývoj superkondenzátorov novej generácie. | C19: RNDr. prof. Peter Kúš DrSc. | D19: Univerzita Komenského v Bratislave, Fakulta matematiky, fyziky a informatiky | F19: Fyzika kondenzovaných látok a akustika | G19: Medzinárodná vedecko-technická spolupráca | H19: Nepodporené | I19: Nepodporené | J19: Nefinancovaný | K19: =LEFT(Hárok1!$A19,LEN(Hárok1!$A19)-5) -> SK-UA-2013
A20: SK-UA-2013-0020 | B20: Výskum vlastností elektrických kontaktov uhlík – kov vyrobených zváraním | C20: Ing. Peter Brziak PhD. | D20: Výskumný ústav zváračský - Priemyselný inštitút SR, | F20: Zváranie, zlievanie a prášková metalurgia | G20: Medzinárodná vedecko-technická spolupráca | H20: Nepodporené | I20: Nepodporené | J20: Nevyhovel FT kontrole | K20: =LEFT(Hárok1!$A20,LEN(Hárok1!$A20)-5) -> SK-UA-2013
A21: SK-UA-2013-0021 | B21: Syntéza nových sorpčných nanokompozitných materiálov založených na ZrO2 a bentonitoch pre odstraňovanie ťažkých kovov z vody | C21: RNDr. Zuzana Melichová PhD. | D21: Univerzita Mateja Bela v Banskej Bystrici, Fakulta prírodných vied | F21: Chemické vedy | G21: Medzinárodná vedecko-technická spolupráca | H21: Nepodporené | I21: Nepodporené | J21: Nefinancovaný | K21: =LEFT(Hárok1!$A21,LEN(Hárok1!$A21)-5) -> SK-UA-2013
A22: SK-UA-2013-0022 | B22: Ochrana a protierózna stabilita pôd – problémy a ich riešenia na Ukrajine a na Slovensku | C22: RNDr. Štefan Koco PhD. | D22: Výskumný ústav pôdoznalectva a ochrany pôdy, Výskumný ústav pôdoznalectva a ochrany pôdy | F22: Ochrana pôdy | G22: Medzinárodná vedecko-technická spolupráca | H22: Nepodporené | I22: Nepodporené | J22: Nefinancovaný | K22: =LEFT(Hárok1!$A22,LEN(Hárok1!$A22)-5) -> SK-UA-2013
A23: SK-UA-2013-0023 | B23: Spoločenstvá EPT slovensko-ukrajinského cezhraničného regiónu: štruktúra, diverzita a posúdenie ekologického stavu tokov | C23: Ing. Marek Svitok PhD. | D23: Technická univerzita vo Zvolene, Fakulta ekológie a environmentalistiky | F23: Všeobecná ekológia | G23: Medzinárodná vedecko-technická spolupráca | H23: 96 | I23: 96 | J23: Financovaný | K23: =LEFT(Hárok1!$A23,LEN(Hárok1!$A23)-5) -> SK-UA-2013
A24: SK-UA-2013-0024 | B24: Dištančné metódy zisťovania rastlinnej biomasy pre zabezpečenie energetických potrieb | C24: prof. Ing. František Janíček PhD. | D24: Slovenská technická univerzita v Bratislave, Fakulta elektrotechniky a informatiky | F24: Elektroenergetika | G24: Medzinárodná vedecko-technická spolupráca | H24: Nepodporené | I24: Nepodporené | J24: Nefinancovaný | K24: =LEFT(Hárok1!$A24,LEN(Hárok1!$A24)-5) -> SK-UA-2013
A25: SK-UA-2013-0025 | B25: Bioekologický a geochemický výskum toxicity podzemnej a povrchovej vody centrálnej oblasti Ukrajiny a Slovenska: asanácia, ochrana a manažment vody | C25: RNDr. EVA Štrbová PhD. | D25: Univerzita Mateja Bela v Banskej Bystrici, Fakulta prírodných vied | F25: Ostatné príbuzné odbory Vied o zemi (geologických, geografických, ekologických a enviromentálnych vied) | G25: Medzinárodná vedecko-technická spolupráca | H25: Nepodporené | I25: Nepodporené | J25: Nefinancovaný | K25: =LEFT(Hárok1!$A25,LEN(Hárok1!$A25)-5) -> SK-UA-2013
A26: SK-UA-2013-0026 | B26: Ekologické riziká a zmeny biodiverzity pod vplyvom elektromagnetického poľa pochádzajúceho od vedenia vysokého napätia | C26: Dr.h.c. doc. Vladimír Šebeň PhD. | D26: Prešovská univerzita v Prešove, | F26: Fyzikálne vedy | G26: Medzinárodná vedecko-technická spolupráca | H26: Nepodporené | I26: Nepodporené | J26: Nefinancovaný | K26: =LEFT(Hárok1!$A26,LEN(Hárok1!$A26)-5) -> SK-UA-2013
A27: SK-UA-2013-0027 | B27: Fyzikálne mechanizmy nízkoteplotnej plastickej deformácie a porušovania nových vysokopevných multikomponentých amorfných a vysokoentropických zliatin | C27: RNDr. Kornel Csach CSc. | D27: Ústav experimentálnej fyziky SAV, | F27: Materiálové inžinierstvo | G27: Medzinárodná vedecko-technická spolupráca | H27: 95 | I27: 95 | J27: Financovaný | K27: =LEFT(Hárok1!$A27,LEN(Hárok1!$A27)-5) -> SK-UA-2013
A28: SK-UA-2013-0028 | B28: Relaxácia a fotoindukované javy v chalkogenidových sklách v systéme Ge-As-S (Se) | C28: doc. RNDr. Karol Flachbart DrSc. | D28: Ústav experimentálnej fyziky SAV, | F28: Materiálové inžinierstvo | G28: Medzinárodná vedecko-technická spolupráca | H28: 89 | I28: 89 | J28: Financovaný | K28: =LEFT(Hárok1!$A28,LEN(Hárok1!$A28)-5) -> SK-UA-2013
A29: SK-UA-2013-0029 | B29: Vývoj vedeckých základov modelovania procesov plastickej deformácie a lomu kovov | C29: PaedDr. Alena Vagaská PhD. | D29: Technická univerzita v Košiciach, Fakulta výrobných technológií, Prešov | F29: Materiálové inžinierstvo | G29: Medzinárodná vedecko-technická spolupráca | H29: Nepodporené | I29: Nepodporené | J29: Nefinancovaný | K29: =LEFT(Hárok1!$A29,LEN(Hárok1!$A29)-5) -> SK-UA-2013
A30: SK-UA-2013-0030 | B30: Critical Infrastructure safety and reliability analysis with application of the Multi-State System | C30: doc. Ing. Elena Zaitseva PhD. | D30: Žilinská univerzita v Žiline, Fakulta riadenia a informatiky | F30: Informačné systémy | G30: Medzinárodná vedecko-technická spolupráca | H30: Nepodporené | I30: Nepodporené | J30: Nefinancovaný | K30: =LEFT(Hárok1!$A30,LEN(Hárok1!$A30)-5) -> SK-UA-2013
A31: SK-UA-2013-0031 | B31: Výskum modelov, internetových nástrojov a technológií pre spoluprácu s komunitou sociálne orientovanej žurnalistiky | C31: RNDr. Štefan Kovalík PhD. | D31: Žilinská univerzita v Žiline, Fakulta riadenia a informatiky | F31: Masmediálna komunikácia | G31: Medzinárodná vedecko-technická spolupráca | H31: Nepodporené | I31: Nepodporené | J31: Nefinancovaný | K31: =LEFT(Hárok1!$A31,LEN(Hárok1!$A31)-5) -> SK-UA-2013
A32: SK-UA-2013-0033 | B32: Vplyv pridania nanočastíc na fyzikálne vlastnosti nových materiálov pre bezolovnaté spájky | C32: Ing. Peter Švec DrSc. | D32: Fyzikálny ústav SAV, | F32: Materiálové inžinierstvo | G32: Medzinárodná vedecko-technická spolupráca | H32: Nepodporené | I32: Nepodporené | J32: Nevyhovel FT kontrole | K32: =LEFT(Hárok1!$A32,LEN(Hárok1!$A32)-5) -> SK-UA-2013
A33: SK-UA-2013-0034 | B33: Hodnotenie vplyvu vodných stavieb na ichtyofaunu vybraných riek na Slovensku a Ukrajine | C33: doc. PaedDr. Ján Koščo PhD. | D33: Prešovská univerzita v Prešove, Fakulta humanitných a prírodných vied | F33: Ekológia jedinca a populácií | G33: Medzinárodná vedecko-technická spolupráca | H33: Nepodporené | I33: Nepodporené | J33: Nefinancovaný | K33: =LEFT(Hárok1!$A33,LEN(Hárok1!$A33)-5) -> SK-UA-2013
A34: SK-UA-2013-0035 | B34: Hodnotenie vplyvov zariadení na využívanie obnoviteľných zdrojov na krajinu | C34: doc. RNDr. Katarína Pavličková CSc. | D34: Univerzita Komenského v Bratislave, Prírodovedecká fakulta | F34: Environmentálny manažment | G34: Medzinárodná vedecko-technická spolupráca | H34: Nepodporené | I34: Nepodporené | J34: Nefinancovaný | K34: =LEFT(Hárok1!$A34,LEN(Hárok1!$A34)-5) -> SK-UA-2013
A35: SK-UA-2013-0036 | B35: Environmental friendly complex metal protection for power plant industry | C35: Mgr. Maroš Halama PhD. | D35: Technická univerzita v Košiciach, Hutnícka fakulta | F35: Materiálové inžinierstvo | G35: Medzinárodná vedecko-technická spolupráca | H35: Nepodporené | I35: Nepodporené | J35: Nefinancovaný | K35: =LEFT(Hárok1!$A35,LEN(Hárok1!$A35)-5) -> SK-UA-2013
A36: SK-UA-2013-0037 | B36: Výskum odolnosti povrchových vrstiev proti opotrebeniu | C36: doc. Ing. Peter Fabian PhD. | D36: Žilinská univerzita v Žiline, Strojnícka fakulta | F36: Ostatné príbuzné odbory strojárstva | G36: Medzinárodná vedecko-technická spolupráca | H36: Nepodporené | I36: Nepodporené | J36: Nevyhovel FT kontrole | K36: =LEFT(Hárok1!$A36,LEN(Hárok1!$A36)-5) -> SK-UA-2013
A37: SK-UA-2013-0038 | B37: Pokročilé gridové techniky pre analýzu časových radov dát zo vzdialeného prieskumu Zeme | C37: doc. Ing. Penka Martincová PhD. | D37: Žilinská univerzita v Žiline, | F37: Informačné a komunikačné technológie | G37: Medzinárodná vedecko-technická spolupráca | H37: Nepodporené | I37: Nepodporené | J37: Nefinancovaný | K37: =LEFT(Hárok1!$A37,LEN(Hárok1!$A37)-5) -> SK-UA-2013
A38: SK-UA-2013-0039 | B38: Vývoj zdokonalených imunobiotík pre korekciu stredných imunitnodeficitných stavov v rámci rozšírených infekcií | C38: MVDr. Alojz Bomba DrSc. | D38: Univerzita Pavla Jozefa Šafárika v Košiciach, Lekárska fakulta | F38: Imunológia (aj pre lekárske, farmaceutické, veterinárne, poľnohospodárske vedy a lesnícke vedy) | G38: Medzinárodná vedecko-technická spolupráca | H38: Nepodporené | I38: Nepodporené | J38: Nefinancovaný | K38: =LEFT(Hárok1!$A38,LEN(Hárok1!$A38)-5) -> SK-UA-2013
A39: SK-UA-2013-0040 | B39: Inteligentné spracovanie multispektrálneho zobrazovania v problematike ochrany životného prostredia | C39: doc. Ing. Vitaly Levashenko PhD. | D39: Žilinská univerzita v Žiline, Fakulta riadenia a informatiky | F39: Umelá inteligencia | G39: Medzinárodná vedecko-technická spolupráca | H39: Nepodporené | I39: Nepodporené | J39: Nefinancovaný | K39: =LEFT(Hárok1!$A39,LEN(Hárok1!$A39)-5) -> SK-UA-2013
A40: SK-UA-2013-0041 | B40: Nanoštruktúrne vrstvy a zlúčeniny na báze oxidu titánu pre čistenie vody | C40: prof. Ing. Ivan Hotový DrSc. | D40: Slovenská technická univerzita v Bratislave, Fakulta elektrotechniky a informatiky | F40: Nanomateriály | G40: Medzinárodná vedecko-technická spolupráca | H40: Nepodporené | I40: Nepodporené | J40: Nefinancovaný | K40: =LEFT(Hárok1!$A40,LEN(Hárok1!$A40)-5) -> SK-UA-2013
...
