Workbook

Sheet hlasovanie
B1: Predbežné výsledky komunálnych volieb 2014
E2: Sledovaný údaj | F2: Okrsok 1 | G2: Okrsok 2 | H2: okrsok 3 | I2: okrsok 4 | J2: SPOLU | K2: Stĺpec1
E3: počet osôb zapísaných v zoznamoch voličov | F3: 1151 | G3: 1128 | H3: 1197 | I3: 1088 | J3: =+hlasovanie!$I3+hlasovanie!$H3+hlasovanie!$G3+hlasovanie!$F3 -> 4564
E4: počet voličov, ktorým boli vydané obálky | F4: 535 | G4: 620 | H4: 596 | I4: 623 | J4: =+hlasovanie!$I4+hlasovanie!$H4+hlasovanie!$G4+hlasovanie!$F4 -> 2374
E5: počet odovzdaných obálok | F5: 535 | G5: 619 | H5: 596 | I5: 623 | J5: =+hlasovanie!$I5+hlasovanie!$H5+hlasovanie!$G5+hlasovanie!$F5 -> 2373
E6: počet platných hlasovacích lístkov odovzdaných pre voľby do mestského zastupiteľstva | F6: 532 | G6: 602 | H6: 577 | I6: 611 | J6: =+hlasovanie!$I6+hlasovanie!$H6+hlasovanie!$G6+hlasovanie!$F6 -> 2322
E7: počet poslancov, ktorý sa mal zvoliť | F7: 11 | G7: 11 | H7: 11 | I7: 11 | J7: =+hlasovanie!$I7+hlasovanie!$H7+hlasovanie!$G7+hlasovanie!$F7 -> 44
E8: počet zvolených poslancov | F8: 11 | G8: 11 | H8: 11 | I8: 11 | J8: =+hlasovanie!$I8+hlasovanie!$H8+hlasovanie!$G8+hlasovanie!$F8 -> 44
E9: počet platných hlasovacích lístkov odovzdaných pre voľby primátora | F9: 533 | G9: 609 | H9: 589 | I9: 611 | J9: =+hlasovanie!$I9+hlasovanie!$H9+hlasovanie!$G9+hlasovanie!$F9 -> 2342
E10: účasť na voľbách | F10: =+F5/F3*100 -> 46.481321 | G10: =+G5/G3*100 -> 54.875887 | H10: =+H5/H3*100 -> 49.791145 | I10: =+I5/I3*100 -> 57.261029 | J10: =+J5/J3*100 -> 51.993865
B12: Kandidáti na primátora v komunálnych voľbách 2014
A14: p.č. | B14: Meno, priezvisko | C14: vek | D14: povolanie | E14: strana/ NEKA | F14: Okrsok 1 | G14: Okrsok 2 | H14: okrsok 3 | I14: okrsok 4 | J14: SPOLU | K14: PORADIE
A15: 1 | B15: Bednár Marek | C15: 34 | D15: podnikateľ v oblasti reklamy | E15: Nezávislý kandidát | F15: 65 | G15: 61 | H15: 71 | I15: 51 | J15: =SUM(hlasovanie!$F15:$I15) -> 248
A16: 2 | B16: Gabura Šimon, Ing. | C16: 34 | D16: hlavný kontrolór | E16: Kresťanskodemokratické hnutie | F16: 226 | G16: 303 | H16: 233 | I16: 236 | J16: =SUM(hlasovanie!$F16:$I16) -> 998
A17: 3 | B17: Gahér František, doc. PhDr. CSc. | C17: 57 | D17: vysokoškolský učiteľ | E17: Nezávislý kandidát | F17: 147 | G17: 144 | H17: 154 | I17: 221 | J17: =SUM(hlasovanie!$F17:$I17) -> 666
A18: 4 | B18: Oravec Richard, Mgr. | C18: 33 | D18: manager | E18: Slovenská demokratická a kresťanská únia - Demokratická strana, NOVA, Občianska konzervatívna strana, xxxxx a Solidarita | F18: 95 | G18: 101 | H18: 131 | I18: 103 | J18: =SUM(hlasovanie!$F18:$I18) -> 430
B19: SPOLU | F19: =SUBTOTAL(109,F15:F18) -> 533 | G19: =SUBTOTAL(109,G15:G18) -> 609 | H19: =SUBTOTAL(109,H15:H18) -> 589 | I19: =SUBTOTAL(109,I15:I18) -> 611 | J19: =SUBTOTAL(109,J15:J18) -> 2342
B21: Kandidáti na poslanca v komunálnych voľbách 2014
A23: p.č. | B23: Meno, priezvisko | C23: vek | D23: povolanie | E23: Stĺpec1 | F23: Okrsok 1 | G23: Okrsok 2 | H23: okrsok 3 | I23: okrsok 4 | J23: SPOLU | K23: PORADIE
A24: 1 | B24: Achberger Alexander, Ing. | C24: 61 | D24: stavebný inžinier | E24: SMER-SD | F24: 84 | G24: 134 | H24: 92 | I24: 134 | J24: =SUM(hlasovanie!$F24:$I24) -> 444
A25: 2 | B25: Achberger Martin, Mgr. | C25: 28 | D25: administratívny pracovník | E25: KDH | F25: 61 | G25: 111 | H25: 70 | I25: 92 | J25: =SUM(hlasovanie!$F25:$I25) -> 334
A26: 3 | B26: Badinský Štefan | C26: 46 | D26: živnostník | E26: KDH | F26: 95 | G26: 98 | H26: 88 | I26: 134 | J26: =SUM(hlasovanie!$F26:$I26) -> 415
A27: 4 | B27: Barok Branislav | C27: 39 | D27: podnikateľ | E27: SNS | F27: 30 | G27: 43 | H27: 30 | I27: 32 | J27: =SUM(hlasovanie!$F27:$I27) -> 135
A28: 5 | B28: Barok Juraj, Ing. | C28: 54 | D28: projektant | E28: KDH | F28: 68 | G28: 49 | H28: 56 | I28: 46 | J28: =SUM(hlasovanie!$F28:$I28) -> 219
A29: 6 | B29: Batka Ľubomír, Mgr. Thl. | C29: 40 | D29: vysokoškolský učiteľ | E29: SDKÚ-DS,NOVA,OKS,SaS | F29: 80 | G29: 110 | H29: 87 | I29: 98 | J29: =SUM(hlasovanie!$F29:$I29) -> 375
A30: 7 | B30: Beladičová Anna | C30: 62 | D30: štátny zamestnanec | E30: SMER-SD | F30: 33 | G30: 69 | H30: 54 | I30: 56 | J30: =SUM(hlasovanie!$F30:$I30) -> 212
A31: 8 | B31: Bordáč Marián, Ing. | C31: 40 | D31: kultúrny pracovník | E31: KDH | F31: 77 | G31: 83 | H31: 100 | I31: 106 | J31: =SUM(hlasovanie!$F31:$I31) -> 366
A32: 9 | B32: Čičo Matej | C32: 45 | D32: lesník, riaditeľ spoločnosti | E32: nezávislý kandidát | F32: 120 | G32: 118 | H32: 105 | I32: 121 | J32: =SUM(hlasovanie!$F32:$I32) -> 464
A33: 10 | B33: Číková Monika, Mgr. | C33: 47 | D33: učiteľka | E33: nezávislá kandidátka | F33: 127 | G33: 159 | H33: 130 | I33: 138 | J33: =SUM(hlasovanie!$F33:$I33) -> 554
A34: 11 | B34: Dočolomanský Peter, Ing. PhD. | C34: 50 | D34: vedecký pracovník | E34: KDH | F34: 171 | G34: 208 | H34: 149 | I34: 176 | J34: =SUM(hlasovanie!$F34:$I34) -> 704
A35: 12 | B35: Duraj Martin, Mgr. | C35: 33 | D35: manažér | E35: nezávislý kandidát | F35: 55 | G35: 79 | H35: 79 | I35: 86 | J35: =SUM(hlasovanie!$F35:$I35) -> 299
... A69: 46 | B69: Zeliska Michal, Mgr. | C69: 28 | D69: marketingový pracovník | E69: KDH | F69: 125 | G69: 189 | H69: 106 | I69: 162 | J69: =SUM(hlasovanie!$F69:$I69) -> 582
B70: SPOLU | F70: =SUBTOTAL(109,F24:F69) -> 3947 | G70: =SUBTOTAL(109,G24:G69) -> 4721 | H70: =SUBTOTAL(109,H24:H69) -> 4152 | I70: =SUBTOTAL(109,I24:I69) -> 4838 | J70: =SUBTOTAL(109,J24:J69) -> 17658

Sheet primátor
B1: Kandidáti na primátora v komunálnych voľbách 2014
A3: p.č. | B3: Meno, priezvisko | C3: vek | D3: povolanie | E3: strana/ NEKA | F3: Okrsok 1 | G3: Okrsok 2 | H3: okrsok 3 | I3: okrsok 4 | J3: SPOLU | K3: PORADIE
A4: 2 | B4: Gabura Šimon, Ing. | C4: 34 | D4: hlavný kontrolór | E4: Kresťanskodemokratické hnutie | F4: 226 | G4: 303 | H4: 233 | I4: 236 | J4: =SUM(primátor!$F4:$I4) -> 998 | K4: 1
A5: 3 | B5: Gahér František, doc. PhDr. CSc. | C5: 57 | D5: vysokoškolský učiteľ | E5: Nezávislý kandidát | F5: 147 | G5: 144 | H5: 154 | I5: 221 | J5: =SUM(primátor!$F5:$I5) -> 666 | K5: 2
A6: 4 | B6: Oravec Richard, Mgr. | C6: 33 | D6: manager | E6: Slovenská demokratická a kresťanská únia - Demokratická strana, NOVA, Občianska konzervatívna strana, xxxxx a Solidarita | F6: 95 | G6: 101 | H6: 131 | I6: 103 | J6: =SUM(primátor!$F6:$I6) -> 430 | K6: 3
A7: 1 | B7: Bednár Marek | C7: 34 | D7: podnikateľ v oblasti reklamy | E7: Nezávislý kandidát | F7: 65 | G7: 61 | H7: 71 | I7: 51 | J7: =SUM(primátor!$F7:$I7) -> 248 | K7: 4
B8: SPOLU | F8: =SUBTOTAL(109,F4:F7) -> 533 | G8: =SUBTOTAL(109,G4:G7) -> 609 | H8: =SUBTOTAL(109,H4:H7) -> 589 | I8: =SUBTOTAL(109,I4:I7) -> 611 | J8: =SUBTOTAL(109,J4:J7) -> 2342

Sheet poslanci
B1: Kandidáti na poslanca v komunálnych voľbách 2014
A3: p.č. | B3: Meno, priezvisko | C3: vek | D3: povolanie | E3: Stĺpec1 | F3: Okrsok 1 | G3: Okrsok 2 | H3: okrsok 3 | I3: okrsok 4 | J3: SPOLU | K3: PORADIE
A4: 14 | B4: Fraňo Marian | C4: 39 | D4: šéfkuchár | E4: nezávislý kandidát | F4: 202 | G4: 254 | H4: 207 | I4: 247 | J4: =SUM(poslanci!$F4:$I4) -> 910 | K4: 1
A5: 18 | B5: Horváth Štefan, MUDr. | C5: 35 | D5: lekár- anestéziológ | E5: nezávislý kandidát | F5: 159 | G5: 251 | H5: 162 | I5: 206 | J5: =SUM(poslanci!$F5:$I5) -> 778 | K5: 2
A6: 15 | B6: Gahér František, doc. PhDr. CSc. | C6: 57 | D6: vysokoškolský učiteľ | E6: nezávislý kandidát | F6: 168 | G6: 159 | H6: 147 | I6: 232 | J6: =SUM(poslanci!$F6:$I6) -> 706 | K6: 3
A7: 11 | B7: Dočolomanský Peter, Ing. PhD. | C7: 50 | D7: vedecký pracovník | E7: KDH | F7: 171 | G7: 208 | H7: 149 | I7: 176 | J7: =SUM(poslanci!$F7:$I7) -> 704 | K7: 4
A8: 19 | B8: Hranická Andrea, Mgr. | C8: 45 | D8: učiteľka | E8: SDKÚ-DS,NOVA,OKS,SaS | F8: 151 | G8: 155 | H8: 197 | I8: 197 | J8: =SUM(poslanci!$F8:$I8) -> 700 | K8: 5
A9: 13 | B9: Filo Július, Prof. ThDr. | C9: 63 | D9: vysokoš. prof. duchovný | E9: SMER-SD | F9: 138 | G9: 175 | H9: 133 | I9: 188 | J9: =SUM(poslanci!$F9:$I9) -> 634 | K9: 6
A10: 46 | B10: Zeliska Michal, Mgr. | C10: 28 | D10: marketingový pracovník | E10: KDH | F10: 125 | G10: 189 | H10: 106 | I10: 162 | J10: =SUM(poslanci!$F10:$I10) -> 582 | K10: 7
A11: 10 | B11: Číková Monika, Mgr. | C11: 47 | D11: učiteľka | E11: nezávislá kandidátka | F11: 127 | G11: 159 | H11: 130 | I11: 138 | J11: =SUM(poslanci!$F11:$I11) -> 554 | K11: 8
A12: 17 | B12: Gróf Ján, JUDr. | C12: 35 | D12: štátny zamestnanec | E12: nezávislý kandidát | F12: 150 | G12: 155 | H12: 108 | I12: 129 | J12: =SUM(poslanci!$F12:$I12) -> 542 | K12: 9
A13: 31 | B13: Pajer Bohumil ml., Ing. | C13: 33 | D13: vinohradník | E13: nezávislý kandidát | F13: 107 | G13: 122 | H13: 148 | I13: 118 | J13: =SUM(poslanci!$F13:$I13) -> 495 | K13: 10
A14: 16 | B14: Grančič Marián | C14: 48 | D14: živnostník | E14: nezávislý kandidát | F14: 94 | G14: 121 | H14: 129 | I14: 134 | J14: =SUM(poslanci!$F14:$I14) -> 478 | K14: 11
A15: 9 | B15: Čičo Matej | C15: 45 | D15: lesník, riaditeľ spoločnosti | E15: nezávislý kandidát | F15: 120 | G15: 118 | H15: 105 | I15: 121 | J15: =SUM(poslanci!$F15:$I15) -> 464 | K15: 12
... A49: 38 | B49: Rybárová Daniela | C49: 63 | D49: dôchodkyňa | E49: SDKÚ-DS,NOVA,OKS,SaS | F49: 19 | G49: 47 | H49: 27 | I49: 31 | J49: =SUM(poslanci!$F49:$I49) -> 124 | K49: 46
B50: SPOLU | F50: =SUBTOTAL(109,F4:F49) -> 3947 | G50: =SUBTOTAL(109,G4:G49) -> 4721 | H50: =SUBTOTAL(109,H4:H49) -> 4152 | I50: =SUBTOTAL(109,I4:I49) -> 4838 | J50: =SUBTOTAL(109,J4:J49) -> 17658
